BEGIN:VCALENDAR
VERSION:2.0
PRODID:-//Eastview - ECPv6.0.2//NONSGML v1.0//EN
CALSCALE:GREGORIAN
METHOD:PUBLISH
X-ORIGINAL-URL:https://www.eastviewmall.com
X-WR-CALDESC:Events for Eastview
REFRESH-INTERVAL;VALUE=DURATION:PT1H
X-Robots-Tag:noindex
X-PUBLISHED-TTL:PT1H
BEGIN:VTIMEZONE
TZID:America/New_York
BEGIN:DAYLIGHT
TZOFFSETFROM:-0500
TZOFFSETTO:-0400
TZNAME:EDT
DTSTART:20230312T070000
END:DAYLIGHT
BEGIN:STANDARD
TZOFFSETFROM:-0400
TZOFFSETTO:-0500
TZNAME:EST
DTSTART:20231105T060000
END:STANDARD
END:VTIMEZONE
BEGIN:VEVENT
DTSTART;VALUE=DATE:20230201
DTEND;VALUE=DATE:20230301
DTSTAMP:20260421T114214
CREATED:20230117T172510Z
LAST-MODIFIED:20230117T172510Z
UID:1058-1675209600-1677628799@www.eastviewmall.com
SUMMARY:Win $100 To Eastview
DESCRIPTION:Enter to win a $100 mall gift card by following these three easy steps… \nFollow us on Instagram @eastviewmall \nTake a selfie in the mall\, in a store\, or at one of our restaurants \nPost the selfie to your Instagram Grid with hashtag #EVMxFEB23 \n  \nEnter to win 2/1/23 – 2/28/23. Contest winner will be randomly selected on 3/1/23 and contacted via Instagram.
URL:https://www.eastviewmall.com/event/win-100-to-eastview/
ATTACH;FMTTYPE=image/jpeg:https://www.eastviewmall.com/wp-content/uploads/sites/2/2023/01/Selfie-Feb2023-E.jpg
END:VEVENT
END:VCALENDAR