BEGIN:VCALENDAR
VERSION:2.0
PRODID:-//Eastview - ECPv6.0.2//NONSGML v1.0//EN
CALSCALE:GREGORIAN
METHOD:PUBLISH
X-ORIGINAL-URL:https://www.eastviewmall.com
X-WR-CALDESC:Events for Eastview
REFRESH-INTERVAL;VALUE=DURATION:PT1H
X-Robots-Tag:noindex
X-PUBLISHED-TTL:PT1H
BEGIN:VTIMEZONE
TZID:America/New_York
BEGIN:DAYLIGHT
TZOFFSETFROM:-0500
TZOFFSETTO:-0400
TZNAME:EDT
DTSTART:20250309T070000
END:DAYLIGHT
BEGIN:STANDARD
TZOFFSETFROM:-0400
TZOFFSETTO:-0500
TZNAME:EST
DTSTART:20251102T060000
END:STANDARD
END:VTIMEZONE
BEGIN:VEVENT
DTSTART;VALUE=DATE:20250404
DTEND;VALUE=DATE:20250420
DTSTAMP:20260421T133432
CREATED:20250212T181118Z
LAST-MODIFIED:20260227T185631Z
UID:5113-1743724800-1745107199@www.eastviewmall.com
SUMMARY:Visit the Easter Bunny!
DESCRIPTION:Hop on over to Eastview and visit the Easter Bunny in Main Court! The Easter Bunny will be at Eastview from Friday\, April 4th to Saturday\, April 19th! Don’t miss out on the egg-citement! \nMONDAY – SATURDAY: 11:00 AM – 7:00 PM  \nSUNDAY: 11:00 AM – 5:00 PM \n(The Easter Bunny will take a carrot break every afternoon. Breaks are Monday-Saturday: 3:00 pm – 3:45 pm and Sunday: 2:00 pm-2:30 pm) \nVIP Holiday Photos (the company that helps bring the Easter Bunny to Eastview) encourages guests to make a reservation should they wish to avoid the crowds and reserve a specific time to see the Bunny. Reservations are NOT required\, and the Easter Bunny’s staff will accommodate walk-up visits whenever possible. \nAs we have in years past\, we will offer additional opportunities to visit the Easter Bunny. Bunny Cares is a program for individuals who require additional assistance\, extra time\, or who need a quieter\, less stressful environment. Bunny Pet Night is an opportunity for families to bring their furry\, four-legged (or scaly\, no-legged) family members to meet the Easter Bunny.
URL:https://www.eastviewmall.com/event/visit-the-easter-bunny-25/
LOCATION:Main Court
ATTACH;FMTTYPE=image/jpeg:https://www.eastviewmall.com/wp-content/uploads/sites/2/2025/02/Bunny-Hours_700x700_EV.jpg
END:VEVENT
END:VCALENDAR