BEGIN:VCALENDAR
VERSION:2.0
PRODID:-//Eastview - ECPv6.0.2//NONSGML v1.0//EN
CALSCALE:GREGORIAN
METHOD:PUBLISH
X-ORIGINAL-URL:https://www.eastviewmall.com
X-WR-CALDESC:Events for Eastview
REFRESH-INTERVAL;VALUE=DURATION:PT1H
X-Robots-Tag:noindex
X-PUBLISHED-TTL:PT1H
BEGIN:VTIMEZONE
TZID:America/New_York
BEGIN:DAYLIGHT
TZOFFSETFROM:-0500
TZOFFSETTO:-0400
TZNAME:EDT
DTSTART:20250309T070000
END:DAYLIGHT
BEGIN:STANDARD
TZOFFSETFROM:-0400
TZOFFSETTO:-0500
TZNAME:EST
DTSTART:20251102T060000
END:STANDARD
END:VTIMEZONE
BEGIN:VEVENT
DTSTART;TZID=America/New_York:20250621T110000
DTEND;TZID=America/New_York:20250621T130000
DTSTAMP:20260423T074054
CREATED:20250430T184526Z
LAST-MODIFIED:20250617T213727Z
UID:5540-1750503600-1750510800@www.eastviewmall.com
SUMMARY:Free Kids Event: Biggest\, Longest & Tallest!
DESCRIPTION:Kids & their families can join Stan the Toothpick Man from the Famous Toothpick World Display for a super fun-filled event featuring the world’s biggest\, longest\, & tallest! \nPLUS everyone’s favorite crew\, the Grease Paint Alley Clowns\, will join in on the fun! \nSATURDAY\, JUNE 21  \n11AM – 1PM \nCROSS COURT\, BETWEEN AUNTIE ANNE’S & SHOE DEPT \nPerfect for the Summer Solstice\, the longest day of the year! \n 
URL:https://www.eastviewmall.com/event/free-kids-event-scavenger-hunt-3/
ATTACH;FMTTYPE=image/jpeg:https://www.eastviewmall.com/wp-content/uploads/sites/2/2025/04/FKE-June2025-E3.jpg
END:VEVENT
END:VCALENDAR