BEGIN:VCALENDAR
VERSION:2.0
PRODID:-//Eastview - ECPv6.0.2//NONSGML v1.0//EN
CALSCALE:GREGORIAN
METHOD:PUBLISH
X-ORIGINAL-URL:https://www.eastviewmall.com
X-WR-CALDESC:Events for Eastview
REFRESH-INTERVAL;VALUE=DURATION:PT1H
X-Robots-Tag:noindex
X-PUBLISHED-TTL:PT1H
BEGIN:VTIMEZONE
TZID:America/New_York
BEGIN:DAYLIGHT
TZOFFSETFROM:-0500
TZOFFSETTO:-0400
TZNAME:EDT
DTSTART:20230312T070000
END:DAYLIGHT
BEGIN:STANDARD
TZOFFSETFROM:-0400
TZOFFSETTO:-0500
TZNAME:EST
DTSTART:20231105T060000
END:STANDARD
END:VTIMEZONE
BEGIN:VEVENT
DTSTART;TZID=America/New_York:20230303T080000
DTEND;TZID=America/New_York:20230303T170000
DTSTAMP:20260421T114242
CREATED:20230303T155022Z
LAST-MODIFIED:20230303T170613Z
UID:1241-1677830400-1677862800@www.eastviewmall.com
SUMMARY:Irish Dance Performance
DESCRIPTION:Join Rince Na Tiarna Irish Dance School as they perform traditional Irish Dance! \nSunday\, March 5 at 2pm in Main Court \n 
URL:https://www.eastviewmall.com/event/irish-dance-performance/
ATTACH;FMTTYPE=image/jpeg:https://www.eastviewmall.com/wp-content/uploads/sites/2/2023/03/RinceNaTiarna-IrisDancing-March2023-E.jpg
END:VEVENT
BEGIN:VEVENT
DTSTART;VALUE=DATE:20230324
DTEND;VALUE=DATE:20230409
DTSTAMP:20260421T114242
CREATED:20230124T142933Z
LAST-MODIFIED:20230227T143725Z
UID:1078-1679616000-1680998399@www.eastviewmall.com
SUMMARY:Visit The Easter Bunny
DESCRIPTION:Hop over to Main Court and visit the Easter Bunny! \nThe bunny will be in Main Court March 24 – April 8 with hours Monday – Saturday: 11am – 7pm and Sunday: 11am – 5pm. Please note that the Bunny will take a carrot break every day\, a sign will be left in his chair with his return time. \nReservations are not required to visit the Easter Bunny. To help reduce crowds and wait times\, and to make the experience as touchless as possible\, VIP Recognition (the company that helps bring the Easter Bunny to Eastview) does encourage guests to make a reservation and purchase their photo package\, ahead of their visit; VIP staff will try to accommodate walk-up visits whenever possible. \nAs we have in years past\, we will offer additional opportunities to visit the Bunny. Click here to learn about Bunny Cares and Pet Day. \n  \n 
URL:https://www.eastviewmall.com/event/visit-the-easter-bunny/
ATTACH;FMTTYPE=image/jpeg:https://www.eastviewmall.com/wp-content/uploads/sites/2/2023/01/EasterBunny2023-E.jpg
END:VEVENT
BEGIN:VEVENT
DTSTART;TZID=America/New_York:20230326T090000
DTEND;TZID=America/New_York:20230326T103000
DTSTAMP:20260421T114242
CREATED:20230207T194933Z
LAST-MODIFIED:20230207T194933Z
UID:1150-1679821200-1679826600@www.eastviewmall.com
SUMMARY:Bunny Cares
DESCRIPTION:A program for individuals who require additional assistance\, extra time\, or who need a quieter\, less stressful environment to visit with the Easter Bunny. \nSunday\, March 26: 9:30am – 10:30am \nSunday\, April 2: 9:30am – 10:30am \n*For Bunny Cares\, please enter and exit through Entrance 4\, located between JCPenney and Dick’s House of Sport. 
URL:https://www.eastviewmall.com/event/bunny-cares/
ATTACH;FMTTYPE=image/jpeg:https://www.eastviewmall.com/wp-content/uploads/sites/2/2023/02/BunnyCares-2023-E.jpg
END:VEVENT
BEGIN:VEVENT
DTSTART;VALUE=DATE:20230327
DTEND;VALUE=DATE:20230328
DTSTAMP:20260421T114242
CREATED:20230207T200347Z
LAST-MODIFIED:20230309T224650Z
UID:1155-1679875200-1679961599@www.eastviewmall.com
SUMMARY:Bunny Pet Day
DESCRIPTION:Pet Day is an opportunity to bring your furry\, four-legged (or scaly no-legged!) family members to meet the Easter Bunny. \nMonday\, March 27 \nMonday\, April 3 \n*For Pet Day\, please enter and exit through Entrance 4\, located between JCPenney and Dick’s House of Sport. During Pet Day\, all pets must be contained to their carriers/leashes when inside the mall. While we welcome pets to visit the Easter Bunny\, they are not permitted in the mall and ask that their visit be limited to seeing the Bunny. \n  \n 
URL:https://www.eastviewmall.com/event/bunny-pet-day/
ATTACH;FMTTYPE=image/jpeg:https://www.eastviewmall.com/wp-content/uploads/sites/2/2023/02/BunnyPetDay-2023-E.jpg
END:VEVENT
END:VCALENDAR