BEGIN:VCALENDAR
VERSION:2.0
PRODID:-//Eastview - ECPv6.0.2//NONSGML v1.0//EN
CALSCALE:GREGORIAN
METHOD:PUBLISH
X-ORIGINAL-URL:https://www.eastviewmall.com
X-WR-CALDESC:Events for Eastview
REFRESH-INTERVAL;VALUE=DURATION:PT1H
X-Robots-Tag:noindex
X-PUBLISHED-TTL:PT1H
BEGIN:VTIMEZONE
TZID:America/New_York
BEGIN:DAYLIGHT
TZOFFSETFROM:-0500
TZOFFSETTO:-0400
TZNAME:EDT
DTSTART:20230312T070000
END:DAYLIGHT
BEGIN:STANDARD
TZOFFSETFROM:-0400
TZOFFSETTO:-0500
TZNAME:EST
DTSTART:20231105T060000
END:STANDARD
TZID:UTC
BEGIN:STANDARD
TZOFFSETFROM:+0000
TZOFFSETTO:+0000
TZNAME:UTC
DTSTART:20230101T000000
END:STANDARD
END:VTIMEZONE
BEGIN:VEVENT
DTSTART;VALUE=DATE:20230324
DTEND;VALUE=DATE:20230409
DTSTAMP:20260423T062722
CREATED:20230124T142933Z
LAST-MODIFIED:20230227T143725Z
UID:1078-1679616000-1680998399@www.eastviewmall.com
SUMMARY:Visit The Easter Bunny
DESCRIPTION:Hop over to Main Court and visit the Easter Bunny! \nThe bunny will be in Main Court March 24 – April 8 with hours Monday – Saturday: 11am – 7pm and Sunday: 11am – 5pm. Please note that the Bunny will take a carrot break every day\, a sign will be left in his chair with his return time. \nReservations are not required to visit the Easter Bunny. To help reduce crowds and wait times\, and to make the experience as touchless as possible\, VIP Recognition (the company that helps bring the Easter Bunny to Eastview) does encourage guests to make a reservation and purchase their photo package\, ahead of their visit; VIP staff will try to accommodate walk-up visits whenever possible. \nAs we have in years past\, we will offer additional opportunities to visit the Bunny. Click here to learn about Bunny Cares and Pet Day. \n  \n 
URL:https://www.eastviewmall.com/event/visit-the-easter-bunny/
ATTACH;FMTTYPE=image/jpeg:https://www.eastviewmall.com/wp-content/uploads/sites/2/2023/01/EasterBunny2023-E.jpg
END:VEVENT
BEGIN:VEVENT
DTSTART;TZID=America/New_York:20230401T110000
DTEND;TZID=America/New_York:20230401T180000
DTSTAMP:20260423T062722
CREATED:20230316T184230Z
LAST-MODIFIED:20230316T184230Z
UID:1325-1680346800-1680372000@www.eastviewmall.com
SUMMARY:Miracle Mile Of Donations
DESCRIPTION:Join Kiwanis of the Finger Lakes as they raise money for Golisano Children’s Hospital – all proceeds support URMC Pediatric Behavior Health & Wellness! \n  \n  \n 
URL:https://www.eastviewmall.com/event/miracle-mile-of-donations/
ATTACH;FMTTYPE=image/jpeg:https://www.eastviewmall.com/wp-content/uploads/sites/2/2023/03/MMOD-2023-E.jpg
END:VEVENT
BEGIN:VEVENT
DTSTART;TZID=America/New_York:20230402T093000
DTEND;TZID=America/New_York:20230402T103000
DTSTAMP:20260423T062722
CREATED:20230207T195033Z
LAST-MODIFIED:20230207T195033Z
UID:1152-1680427800-1680431400@www.eastviewmall.com
SUMMARY:Bunny Cares
DESCRIPTION:A program for individuals who require additional assistance\, extra time\, or who need a quieter\, less stressful environment to visit with the Easter Bunny. \nSunday\, March 26: 9:30am – 10:30am \nSunday\, April 2: 9:30am – 10:30am \n*For Bunny Cares\, please enter and exit through Entrance 4\, located between JCPenney and Dick’s House of Sport. 
URL:https://www.eastviewmall.com/event/bunny-cares-2/
ATTACH;FMTTYPE=image/jpeg:https://www.eastviewmall.com/wp-content/uploads/sites/2/2023/02/BunnyCares-2023-E.jpg
END:VEVENT
BEGIN:VEVENT
DTSTART;VALUE=DATE:20230403
DTEND;VALUE=DATE:20230404
DTSTAMP:20260423T062722
CREATED:20230207T200419Z
LAST-MODIFIED:20230309T224634Z
UID:1157-1680480000-1680566399@www.eastviewmall.com
SUMMARY:Bunny Pet Day
DESCRIPTION:Pet Day is an opportunity to bring your furry\, four-legged (or scaly no-legged!) family members to meet the Easter Bunny. \nMonday\, March 27 \nMonday\, April 3 \n*For Pet Day\, please enter and exit through Entrance 4\, located between JCPenney and Dick’s House of Sport. During Pet Day\, all pets must be contained to their carriers/leashes when inside the mall. While we welcome pets to visit the Easter Bunny\, they are not permitted in the mall and ask that their visit be limited to seeing the Bunny. \n  \n 
URL:https://www.eastviewmall.com/event/bunny-pet-day-2/
ATTACH;FMTTYPE=image/jpeg:https://www.eastviewmall.com/wp-content/uploads/sites/2/2023/02/BunnyPetDay-2023-E.jpg
END:VEVENT
BEGIN:VEVENT
DTSTART;VALUE=DATE:20230404
DTEND;VALUE=DATE:20230405
DTSTAMP:20260423T062722
CREATED:20230125T174420Z
LAST-MODIFIED:20230125T174420Z
UID:1087-1680566400-1680652799@www.eastviewmall.com
SUMMARY:Carousel Tuesday: FREE Rides!
DESCRIPTION:Carousel Tuesdays are held during school breaks throughout the year. All other days\, one ride costs $2.00\, exact change only. Purchase a Carousel Club Card (10 rides for $10) at the Customer Service Center.
URL:https://www.eastviewmall.com/event/carousel-tuesday-free-rides/
ATTACH;FMTTYPE=image/jpeg:https://www.eastviewmall.com/wp-content/uploads/sites/2/2023/01/CarouselTuesday-April2023-E.jpg
END:VEVENT
BEGIN:VEVENT
DTSTART;TZID=America/New_York:20230405T110000
DTEND;TZID=America/New_York:20230405T140000
DTSTAMP:20260423T062722
CREATED:20230125T172513Z
LAST-MODIFIED:20230330T142834Z
UID:1085-1680692400-1680703200@www.eastviewmall.com
SUMMARY:Wildlife Wednesday
DESCRIPTION:Wednesday\, April 5 \nCROSS COURT\, near JCPenney. \n11am – 2pm (lunch break 12pm – 1pm) \nWildlife Wednesdays are a program with the Wildlife Rockstars held every Wednesday during school breaks. Join The Wildlife Rockstars in Main Court for hands meet & greet and then enjoy a creative Wildlife Rockstar themed activity!
URL:https://www.eastviewmall.com/event/wildlife-wednesday/
ATTACH;FMTTYPE=image/jpeg:https://www.eastviewmall.com/wp-content/uploads/sites/2/2023/01/WildlifeWednesday-April2023-E2.jpg
END:VEVENT
BEGIN:VEVENT
DTSTART;VALUE=DATE:20230410
DTEND;VALUE=DATE:20230424
DTSTAMP:20260423T062722
CREATED:20230316T141114Z
LAST-MODIFIED:20230316T141810Z
UID:1317-1681084800-1682294399@www.eastviewmall.com
SUMMARY:FREE Reusable Tote!
DESCRIPTION:Earth Day is Saturday\, April 22 – let’s do our part to reduce\, REUSE\, and recycle! \nStop by Customer Service to get your Reusable Tote – shoppers receive a free reusable canvas tote with an in-mall purchase totaling $50 or more. \n  \nOne per customer. Must show same-day receipt(s). Mall Gift Card purchase qualifies. While supplies last.
URL:https://www.eastviewmall.com/event/free-reusable-tote/
ATTACH;FMTTYPE=image/jpeg:https://www.eastviewmall.com/wp-content/uploads/sites/2/2023/03/EarthDayGWP-2023-E3.jpg
END:VEVENT
BEGIN:VEVENT
DTSTART;TZID=America/New_York:20230416T110000
DTEND;TZID=America/New_York:20230416T170000
DTSTAMP:20260423T062722
CREATED:20230124T143039Z
LAST-MODIFIED:20230413T132550Z
UID:1079-1681642800-1681664400@www.eastviewmall.com
SUMMARY:585 Kids Summer Camp & Activity Fair
DESCRIPTION:The Annual 585 Kids Summer Camp & Activity Fair allows kiddos and their families to learn about (and try) different camps\, clinics\, and classes – so they can plan their summer activities. \nThe camp fair will be held in both Main Court and Cross Court. \n  \nA Magical Journey Thru Stages \nAllendale Columbia School \nBeam Camp \nBoy Scouts of America/ Seneca Waterways Council \nCamp Casowasco \nCamp Cherith of WNY \nCamp Stella Maris \nCamp Whitman \nCanandaigua Sailboard \nCorning Museum of Glass \nDraper Center for Dance Education \nEastman Community Music School \nGirl Scouts of WNY \nHistoric Pursuits \nJCC/TYKES \nKanack School of Musical Artistry \nMain Street Players \nMaster Kim’s Taekwondo Institute \nMidtown Athletic Club \nTF Models \nOFC Creations \nPinnacle Athletic Campus \nRochester Fencing Club \nSchool of Rock \nSpins Dance Studio \nThe Hochstein School \nWarrior Factory \nYMCA of Greater Rochester
URL:https://www.eastviewmall.com/event/585-kids-camp-fair/
ATTACH;FMTTYPE=image/jpeg:https://www.eastviewmall.com/wp-content/uploads/sites/2/2023/01/KidsEvent-April2023-E.jpg
END:VEVENT
BEGIN:VEVENT
DTSTART;VALUE=DATE:20230420
DTEND;VALUE=DATE:20230424
DTSTAMP:20260423T062722
CREATED:20230322T200319Z
LAST-MODIFIED:20230322T200319Z
UID:1370-1681948800-1682294399@www.eastviewmall.com
SUMMARY:Spring Book Sale
DESCRIPTION:Join the Friends of the Victor Farmington Library for their Spring Book Sale! \nLocated in Main Court\, next to LUSH and across from LEGO\, the closest mall entrance is Entrance #4 (park between JCPenney and Dick’s House of Sport) \nThursday\, April 20: 11am – 7pm \nFriday\, April 21: 11am – 4pm \nSaturday\, April 22: 1pm – 7pm \nSunday\, April 23: 1pm – 4pm
URL:https://www.eastviewmall.com/event/spring-book-sale/
LOCATION:Main Court
ATTACH;FMTTYPE=image/jpeg:https://www.eastviewmall.com/wp-content/uploads/sites/2/2023/03/LibrarySale-Spring2023-E.jpg
END:VEVENT
BEGIN:VEVENT
DTSTART;TZID=America/New_York:20230423T140000
DTEND;TZID=America/New_York:20230423T150000
DTSTAMP:20260423T062722
CREATED:20230406T200330Z
LAST-MODIFIED:20230406T200506Z
UID:1412-1682258400-1682262000@www.eastviewmall.com
SUMMARY:Kick-A-Thon
DESCRIPTION:Come out to support Master Kim’s Taekwondo at the 2023 Kick-A-Thon! \nSunday\, April 23 (2pm – 3pm) in Main Court \nWatch students demonstrate their moves and break a board for a worthy cause! All proceeds will benefit the MKTKD Scholarship Fund.
URL:https://www.eastviewmall.com/event/kick-a-thon/
LOCATION:Main Court
ATTACH;FMTTYPE=image/jpeg:https://www.eastviewmall.com/wp-content/uploads/sites/2/2023/04/KickAThon-E2.jpg
END:VEVENT
BEGIN:VEVENT
DTSTART;TZID=America/New_York:20230429T080000
DTEND;TZID=America/New_York:20230429T100000
DTSTAMP:20260423T062722
CREATED:20230418T174528Z
LAST-MODIFIED:20230418T182537Z
UID:1451-1682755200-1682762400@www.eastviewmall.com
SUMMARY:Autism Awareness Walk
DESCRIPTION:We are thrilled to be welcoming you to our 13th Annual Autism Awareness & Acceptance Walk! Join us for a fun\, inclusive\, and interactive walk to celebrate diversity and raise awareness for Autism! For more information\, to donate and sign up to walk\, visit their website \n 
URL:https://www.eastviewmall.com/event/autism-awareness-walk/
ATTACH;FMTTYPE=image/jpeg:https://www.eastviewmall.com/wp-content/uploads/sites/2/2023/04/AustismAwareness-April2023-E.jpg
END:VEVENT
END:VCALENDAR