BEGIN:VCALENDAR
VERSION:2.0
PRODID:-//Eastview - ECPv6.0.2//NONSGML v1.0//EN
CALSCALE:GREGORIAN
METHOD:PUBLISH
X-WR-CALNAME:Eastview
X-ORIGINAL-URL:https://www.eastviewmall.com
X-WR-CALDESC:Events for Eastview
REFRESH-INTERVAL;VALUE=DURATION:PT1H
X-Robots-Tag:noindex
X-PUBLISHED-TTL:PT1H
BEGIN:VTIMEZONE
TZID:America/New_York
BEGIN:DAYLIGHT
TZOFFSETFROM:-0500
TZOFFSETTO:-0400
TZNAME:EDT
DTSTART:20250309T070000
END:DAYLIGHT
BEGIN:STANDARD
TZOFFSETFROM:-0400
TZOFFSETTO:-0500
TZNAME:EST
DTSTART:20251102T060000
END:STANDARD
END:VTIMEZONE
BEGIN:VEVENT
DTSTART;VALUE=DATE:20250404
DTEND;VALUE=DATE:20250420
DTSTAMP:20260421T114647
CREATED:20250212T181118Z
LAST-MODIFIED:20260227T185631Z
UID:5113-1743724800-1745107199@www.eastviewmall.com
SUMMARY:Visit the Easter Bunny!
DESCRIPTION:Hop on over to Eastview and visit the Easter Bunny in Main Court! The Easter Bunny will be at Eastview from Friday\, April 4th to Saturday\, April 19th! Don’t miss out on the egg-citement! \nMONDAY – SATURDAY: 11:00 AM – 7:00 PM  \nSUNDAY: 11:00 AM – 5:00 PM \n(The Easter Bunny will take a carrot break every afternoon. Breaks are Monday-Saturday: 3:00 pm – 3:45 pm and Sunday: 2:00 pm-2:30 pm) \nVIP Holiday Photos (the company that helps bring the Easter Bunny to Eastview) encourages guests to make a reservation should they wish to avoid the crowds and reserve a specific time to see the Bunny. Reservations are NOT required\, and the Easter Bunny’s staff will accommodate walk-up visits whenever possible. \nAs we have in years past\, we will offer additional opportunities to visit the Easter Bunny. Bunny Cares is a program for individuals who require additional assistance\, extra time\, or who need a quieter\, less stressful environment. Bunny Pet Night is an opportunity for families to bring their furry\, four-legged (or scaly\, no-legged) family members to meet the Easter Bunny.
URL:https://www.eastviewmall.com/event/visit-the-easter-bunny-25/
LOCATION:Main Court
ATTACH;FMTTYPE=image/jpeg:https://www.eastviewmall.com/wp-content/uploads/sites/2/2025/02/Bunny-Hours_700x700_EV.jpg
END:VEVENT
BEGIN:VEVENT
DTSTART;TZID=America/New_York:20250405T100000
DTEND;TZID=America/New_York:20250405T110000
DTSTAMP:20260421T114647
CREATED:20250326T202344Z
LAST-MODIFIED:20250326T202344Z
UID:5347-1743847200-1743850800@www.eastviewmall.com
SUMMARY:Welcome The Easter Bunny!
DESCRIPTION:Join us as we welcome the Easter Bunny to Eastview! \nSATURDAY\, APRIL 5 \n10AM – 11AM \nCAROUSEL \nTo celebrate his arrival\, the Bunny will be at the Carousel from 10am to 11am for FREE rides. Then at 11am\, the Bunny will head to his chair to start the season. \nWant to grab your photo with the Bunny right after your carousel rides? Visit the VIP Reservation Page to secure a specific time. Reservations are NOT required\, and the Easter Bunny’s staff will accommodate walk-up visits whenever possible.
URL:https://www.eastviewmall.com/event/welcome-the-easter-bunny-2/
ATTACH;FMTTYPE=image/jpeg:https://www.eastviewmall.com/wp-content/uploads/sites/2/2025/03/BunnyWelcome-April2025-E.jpg
END:VEVENT
BEGIN:VEVENT
DTSTART;VALUE=DATE:20250406
DTEND;VALUE=DATE:20250414
DTSTAMP:20260421T114647
CREATED:20250212T181338Z
LAST-MODIFIED:20260227T190702Z
UID:5115-1743897600-1744588799@www.eastviewmall.com
SUMMARY:Bunny Cares
DESCRIPTION:Bunny Cares is a program for individuals who require additional assistance\, extra time\, or who need a quieter\, less stressful environment to visit with Easter Bunny. \nSunday\, April 6th: 9:30am – 10:30am  \nSunday\, April 13th: 9:30am – 10:30am \n*For Bunny Cares\, please enter and exit through Entrance 4\, located between JCPenney and Dick’s House of Sport. 
URL:https://www.eastviewmall.com/event/bunny-cares-25/
LOCATION:Main Court
ATTACH;FMTTYPE=image/jpeg:https://www.eastviewmall.com/wp-content/uploads/sites/2/2025/02/Bunny-Cares_700x700_EV.jpg
END:VEVENT
BEGIN:VEVENT
DTSTART;VALUE=DATE:20250407
DTEND;VALUE=DATE:20250415
DTSTAMP:20260421T114647
CREATED:20250212T181636Z
LAST-MODIFIED:20260227T191916Z
UID:5117-1743984000-1744675199@www.eastviewmall.com
SUMMARY:Bunny Pet Night
DESCRIPTION:Bunny Pet Night is an opportunity to bring your furry\, four-legged (or scaly no-legged!) family members to meet the Easter Bunny! \nMonday\, April 7th: 4:00pm – 7:00pm \nMonday\, April 14th: 4:00pm – 7:00pm \n*For Bunny Pet Night\, please enter and exit through Entrance 4\, located between JCPenney and Dick’s House of Sport. During Bunny Pet Night\, all pets must be contained to their carriers/leashes when inside the mall. While we welcome pets to visit the Easter Bunny\, they are not permitted in the mall and ask that their visit be limited to seeing the Bunny.
URL:https://www.eastviewmall.com/event/bunny-pet-night-25/
LOCATION:Main Court
ATTACH;FMTTYPE=image/jpeg:https://www.eastviewmall.com/wp-content/uploads/sites/2/2025/02/Pet-Night_700x700_EV.jpg
END:VEVENT
BEGIN:VEVENT
DTSTART;TZID=America/New_York:20250412T130000
DTEND;TZID=America/New_York:20250412T160000
DTSTAMP:20260421T114647
CREATED:20250220T200118Z
LAST-MODIFIED:20250220T200118Z
UID:5179-1744462800-1744473600@www.eastviewmall.com
SUMMARY:Music For All
DESCRIPTION:Enjoy the musical stylings of talented local musicians through Eastman School of Music’s “Music For All” initiative. Performances will be at the Fireplace near Von Maur. \nSaturday\, April 12 at 1pm: Incognito Saxophone Quartet \nSaturday\, April 12 at 3pm: Absolute Zero \nSaturday\, April 26 at 1pm: Petrichor Reed Quintet \nSaturday\, April 26 at 2pm: Pentaphonic \nMusic For All is a community engagement program through Eastman chamber music groups and local venues around the Rochester area. The main goal of Music For All is for various audiences and Eastman musicians to connect through a shared music experience and build meaningful relationships between the Eastman School of Music and the Rochester community.
URL:https://www.eastviewmall.com/event/music-for-all/
ATTACH;FMTTYPE=image/jpeg:https://www.eastviewmall.com/wp-content/uploads/sites/2/2025/02/MusicForAll-April2025-E.jpg
END:VEVENT
BEGIN:VEVENT
DTSTART;VALUE=DATE:20250415
DTEND;VALUE=DATE:20250416
DTSTAMP:20260421T114647
CREATED:20250220T195355Z
LAST-MODIFIED:20250220T195355Z
UID:5176-1744675200-1744761599@www.eastviewmall.com
SUMMARY:Carousel Tuesday: FREE Rides!
DESCRIPTION:Free rides on the Tuesday during Spring Break! \nTUESDAY\, APRIL 15 \nCarousel Tuesdays are held during school breaks throughout the year. All other days\, one ride costs $2.00\, exact change only. Purchase a Carousel Club Card (10 rides for $10) at the Carousel\, exact cash or credit accepted.
URL:https://www.eastviewmall.com/event/carousel-tuesday-free-rides-28/
ATTACH;FMTTYPE=image/jpeg:https://www.eastviewmall.com/wp-content/uploads/sites/2/2025/02/CarouselTuesday-April2025-E2.jpg
END:VEVENT
BEGIN:VEVENT
DTSTART;TZID=America/New_York:20250416T110000
DTEND;TZID=America/New_York:20250416T140000
DTSTAMP:20260421T114647
CREATED:20250220T194943Z
LAST-MODIFIED:20250220T194943Z
UID:5173-1744801200-1744812000@www.eastviewmall.com
SUMMARY:Wildlife Wednesday
DESCRIPTION:The Wildlife Rockstars are here at Eastview on Wednesdays during school breaks. Kids can stop by for an animal meet & greet\, coloring pages\, touch table and more! \nWEDNESDAY\, APRIL 16 \nMAIN COURT  \n11AM – 2PM (lunch break 12p – 1p) \n  \nThe Wildlife Rockstars are a division of Bridges For Brain Injury. The wildlife & conservation education program is run by staff and members.  As part of their rehabilitation\, members are re-building and learning new skills as they are trained in the handling and care of live native and exotic animals\, birds\, reptiles and more! They inspire audiences with their knowledge of our animal ambassadors and their personal stories of rebuilding their lives following a tragic accident or injury.  As far as we’re concerned\, they ROCK! The Wildlife Rockstars visit schools\, veteran\, youth and senior groups\, nursing homes\, and community events to share information about their animal ambassadors and encourage environmental and wildlife conservation awareness. 
URL:https://www.eastviewmall.com/event/wildlife-wednesday-23/
ATTACH;FMTTYPE=image/jpeg:https://www.eastviewmall.com/wp-content/uploads/sites/2/2025/02/WildlifeWednesday-April2025-E-e1740080955287.jpg
END:VEVENT
BEGIN:VEVENT
DTSTART;TZID=America/New_York:20250426T080000
DTEND;TZID=America/New_York:20250426T100000
DTSTAMP:20260421T114647
CREATED:20250220T210509Z
LAST-MODIFIED:20250221T183848Z
UID:5182-1745654400-1745661600@www.eastviewmall.com
SUMMARY:Autism Awareness & Acceptance Walk
DESCRIPTION:We invite you\, your family\, and your friends to participate in Ability Partners Foundation’s 15th Annual Autism Awareness & Acceptance Walk to benefit CP Rochester\, Happiness House\, and Rochester Rehabilitation. \n\n SATURDAY\, APRIL 26 AT 8:30AM\nRegistration begins at 8 a.m. – the walk begins at 8:30 a.m.\nRegistration will be held at Entrance #5 at the Food Court\n\nFree t-shirts for all registrants (while supplies last)! No minimum fee and no registration fee! We ask that you please register all participants (including those in strollers or wagons). Prizes will be awarded to participants who raise the most pledges! \nIn the Finger Lakes area\, Ability Partners agencies: CP Rochester\, Happiness House\, and Rochester Rehabilitation offer an array of services to individuals of all ages with Autism\, including Education\, Family Support\, Evaluation Services\, Residential\, Therapeutic\, Service Coordination\, and Employment Services.
URL:https://www.eastviewmall.com/event/autism-awareness-acceptance-walk-2/
ATTACH;FMTTYPE=image/jpeg:https://www.eastviewmall.com/wp-content/uploads/sites/2/2025/02/AutismWalk-April2025-E2.jpg
END:VEVENT
BEGIN:VEVENT
DTSTART;TZID=America/New_York:20250426T130000
DTEND;TZID=America/New_York:20250426T150000
DTSTAMP:20260421T114647
CREATED:20250220T201614Z
LAST-MODIFIED:20250220T201614Z
UID:5181-1745672400-1745679600@www.eastviewmall.com
SUMMARY:Music For All
DESCRIPTION:Enjoy the musical stylings of talented local musicians through Eastman School of Music’s “Music For All” initiative. Performances will be at the Fireplace near Von Maur. \nSaturday\, April 12 at 1pm: Incognito Saxophone Quartet \nSaturday\, April 12 at 3pm: Absolute Zero \nSaturday\, April 26 at 1pm: Petrichor Reed Quintet \nSaturday\, April 26 at 2pm: Pentaphonic \nMusic For All is a community engagement program through Eastman chamber music groups and local venues around the Rochester area. The main goal of Music For All is for various audiences and Eastman musicians to connect through a shared music experience and build meaningful relationships between the Eastman School of Music and the Rochester community.
URL:https://www.eastviewmall.com/event/music-for-all-2/
ATTACH;FMTTYPE=image/jpeg:https://www.eastviewmall.com/wp-content/uploads/sites/2/2025/02/MusicForAll-April2025-E.jpg
END:VEVENT
BEGIN:VEVENT
DTSTART;TZID=America/New_York:20250427T140000
DTEND;TZID=America/New_York:20250427T150000
DTSTAMP:20260421T114647
CREATED:20250220T214450Z
LAST-MODIFIED:20250424T160750Z
UID:5184-1745762400-1745766000@www.eastviewmall.com
SUMMARY:MKTKD Kick-A-Thon
DESCRIPTION:*CHANGE IN LOCATION FOR THE 2025 KICK-A-THON* \nCome out to support Master Kim’s Taekwondo at the 2025 Kick-A-Thon! \nSunday\, April 27  \n2pm – 3pm \nCross Court (outside Shoe Department) \nWatch students demonstrate their moves and break a board for a worthy cause PLUS watch an awesome demonstration by the Demo Team! All proceeds will benefit the MKTKD Scholarship Fund.
URL:https://www.eastviewmall.com/event/mktkd-kick-a-thon/
ATTACH;FMTTYPE=image/jpeg:https://www.eastviewmall.com/wp-content/uploads/sites/2/2025/02/KickAThon-April2025-E.jpg
END:VEVENT
END:VCALENDAR