BEGIN:VCALENDAR
VERSION:2.0
PRODID:-//Eastview - ECPv6.0.2//NONSGML v1.0//EN
CALSCALE:GREGORIAN
METHOD:PUBLISH
X-ORIGINAL-URL:https://www.eastviewmall.com
X-WR-CALDESC:Events for Eastview
REFRESH-INTERVAL;VALUE=DURATION:PT1H
X-Robots-Tag:noindex
X-PUBLISHED-TTL:PT1H
BEGIN:VTIMEZONE
TZID:America/New_York
BEGIN:DAYLIGHT
TZOFFSETFROM:-0500
TZOFFSETTO:-0400
TZNAME:EDT
DTSTART:20250309T070000
END:DAYLIGHT
BEGIN:STANDARD
TZOFFSETFROM:-0400
TZOFFSETTO:-0500
TZNAME:EST
DTSTART:20251102T060000
END:STANDARD
END:VTIMEZONE
BEGIN:VEVENT
DTSTART;VALUE=DATE:20250701
DTEND;VALUE=DATE:20250702
DTSTAMP:20260421T093313
CREATED:20250520T170936Z
LAST-MODIFIED:20250617T214446Z
UID:5643-1751328000-1751414399@www.eastviewmall.com
SUMMARY:Carousel Tuesdays: FREE RIDES!
DESCRIPTION:Free rides on Tuesdays during Summer Break! \nTuesday\, July 2 – Tuesday\, September 2 \n  \nRides are $2 all other days. Carousel Club Cards (10 rides for $10) are available for purchase at the Carousel. Exact cash or credit accepted.
URL:https://www.eastviewmall.com/event/carousel-tuesdays-free-rides-2/
ATTACH;FMTTYPE=image/jpeg:https://www.eastviewmall.com/wp-content/uploads/sites/2/2025/05/CarouselTuesday-Summer2025-E.jpg
END:VEVENT
BEGIN:VEVENT
DTSTART;TZID=America/New_York:20250702T110000
DTEND;TZID=America/New_York:20250702T140000
DTSTAMP:20260421T093313
CREATED:20250617T213920Z
LAST-MODIFIED:20250617T213920Z
UID:5769-1751454000-1751464800@www.eastviewmall.com
SUMMARY:Wildlife Wednesday
DESCRIPTION:The Wildlife Rockstars are here every Wednesday during summer break! \nWednesday\, June 25 – Wednesday\, August 27 \n Main Court \n11a – 2p (lunch break 12p – 1p) \nWildlife Wednesdays are held every Wednesday during school breaks throughout the year. Kiddos can join the Wildlife Rockstars and enjoy an animal meet & greet and a themed activity including: coloring pages\, touch table and more!!
URL:https://www.eastviewmall.com/event/wildlife-wednesday-24/
ATTACH;FMTTYPE=image/jpeg:https://www.eastviewmall.com/wp-content/uploads/sites/2/2025/05/WildlifeWednesday-Summer2025-E-1.jpg
END:VEVENT
BEGIN:VEVENT
DTSTART;VALUE=DATE:20250708
DTEND;VALUE=DATE:20250709
DTSTAMP:20260421T093313
CREATED:20250617T214512Z
LAST-MODIFIED:20250617T214512Z
UID:5778-1751932800-1752019199@www.eastviewmall.com
SUMMARY:Carousel Tuesday: FREE RIDES!
DESCRIPTION:Free rides on Tuesdays during Summer Break! \nTuesday\, July 2 – Tuesday\, September 2 \n  \nRides are $2 all other days. Carousel Club Cards (10 rides for $10) are available for purchase at the Carousel. Exact cash or credit accepted.
URL:https://www.eastviewmall.com/event/carousel-tuesday-free-rides-29/
ATTACH;FMTTYPE=image/jpeg:https://www.eastviewmall.com/wp-content/uploads/sites/2/2025/05/CarouselTuesday-Summer2025-E.jpg
END:VEVENT
BEGIN:VEVENT
DTSTART;TZID=America/New_York:20250709T110000
DTEND;TZID=America/New_York:20250709T140000
DTSTAMP:20260421T093313
CREATED:20250617T213944Z
LAST-MODIFIED:20250617T214104Z
UID:5770-1752058800-1752069600@www.eastviewmall.com
SUMMARY:Wildlife Wednesday
DESCRIPTION:The Wildlife Rockstars are here every Wednesday during summer break! \nWednesday\, June 25 – Wednesday\, August 27 \n Main Court \n11a – 2p (lunch break 12p – 1p) \nWildlife Wednesdays are held every Wednesday during school breaks throughout the year. Kiddos can join the Wildlife Rockstars and enjoy an animal meet & greet and a themed activity including: coloring pages\, touch table and more!!
URL:https://www.eastviewmall.com/event/wildlife-wednesday-25/
ATTACH;FMTTYPE=image/jpeg:https://www.eastviewmall.com/wp-content/uploads/sites/2/2025/05/WildlifeWednesday-Summer2025-E-1.jpg
END:VEVENT
BEGIN:VEVENT
DTSTART;VALUE=DATE:20250715
DTEND;VALUE=DATE:20250716
DTSTAMP:20260421T093313
CREATED:20250617T214538Z
LAST-MODIFIED:20250617T214538Z
UID:5779-1752537600-1752623999@www.eastviewmall.com
SUMMARY:Carousel Tuesday: FREE RIDES
DESCRIPTION:Free rides on Tuesdays during Summer Break! \nTuesday\, July 2 – Tuesday\, September 2 \n  \nRides are $2 all other days. Carousel Club Cards (10 rides for $10) are available for purchase at the Carousel. Exact cash or credit accepted.
URL:https://www.eastviewmall.com/event/carousel-tuesday-free-rides-30/
ATTACH;FMTTYPE=image/jpeg:https://www.eastviewmall.com/wp-content/uploads/sites/2/2025/05/CarouselTuesday-Summer2025-E.jpg
END:VEVENT
BEGIN:VEVENT
DTSTART;TZID=America/New_York:20250716T110000
DTEND;TZID=America/New_York:20250716T140000
DTSTAMP:20260421T093313
CREATED:20250617T214014Z
LAST-MODIFIED:20250617T214125Z
UID:5771-1752663600-1752674400@www.eastviewmall.com
SUMMARY:Wildlife Wednesday
DESCRIPTION:The Wildlife Rockstars are here every Wednesday during summer break! \nWednesday\, June 25 – Wednesday\, August 27 \n Main Court \n11a – 2p (lunch break 12p – 1p) \nWildlife Wednesdays are held every Wednesday during school breaks throughout the year. Kiddos can join the Wildlife Rockstars and enjoy an animal meet & greet and a themed activity including: coloring pages\, touch table and more!!
URL:https://www.eastviewmall.com/event/wildlife-wednesday-26/
ATTACH;FMTTYPE=image/jpeg:https://www.eastviewmall.com/wp-content/uploads/sites/2/2025/05/WildlifeWednesday-Summer2025-E-1.jpg
END:VEVENT
BEGIN:VEVENT
DTSTART;VALUE=DATE:20250722
DTEND;VALUE=DATE:20250723
DTSTAMP:20260421T093313
CREATED:20250617T214601Z
LAST-MODIFIED:20250617T214601Z
UID:5780-1753142400-1753228799@www.eastviewmall.com
SUMMARY:Carousel Tuesday: FREE RIDES
DESCRIPTION:Free rides on Tuesdays during Summer Break! \nTuesday\, July 2 – Tuesday\, September 2 \n  \nRides are $2 all other days. Carousel Club Cards (10 rides for $10) are available for purchase at the Carousel. Exact cash or credit accepted.
URL:https://www.eastviewmall.com/event/carousel-tuesday-free-rides-31/
ATTACH;FMTTYPE=image/jpeg:https://www.eastviewmall.com/wp-content/uploads/sites/2/2025/05/CarouselTuesday-Summer2025-E.jpg
END:VEVENT
BEGIN:VEVENT
DTSTART;TZID=America/New_York:20250723T110000
DTEND;TZID=America/New_York:20250723T140000
DTSTAMP:20260421T093313
CREATED:20250617T214039Z
LAST-MODIFIED:20250617T214149Z
UID:5772-1753268400-1753279200@www.eastviewmall.com
SUMMARY:Wildlife Wednesday
DESCRIPTION:The Wildlife Rockstars are here every Wednesday during summer break! \nWednesday\, June 25 – Wednesday\, August 27 \n Main Court \n11a – 2p (lunch break 12p – 1p) \nWildlife Wednesdays are held every Wednesday during school breaks throughout the year. Kiddos can join the Wildlife Rockstars and enjoy an animal meet & greet and a themed activity including: coloring pages\, touch table and more!!
URL:https://www.eastviewmall.com/event/wildlife-wednesday-27/
ATTACH;FMTTYPE=image/jpeg:https://www.eastviewmall.com/wp-content/uploads/sites/2/2025/05/WildlifeWednesday-Summer2025-E-1.jpg
END:VEVENT
BEGIN:VEVENT
DTSTART;TZID=America/New_York:20250726T110000
DTEND;TZID=America/New_York:20250726T130000
DTSTAMP:20260421T093313
CREATED:20250617T222155Z
LAST-MODIFIED:20250617T222155Z
UID:5787-1753527600-1753534800@www.eastviewmall.com
SUMMARY:Free Kids Event: Summer Bash
DESCRIPTION:Kids & their families are invited to our Summer Bash… we’re bringing sand and sun inside! \nSATURDAY\, JULY 26 \n11AM – 1PM \nCROSS COURT (BETWEEN AUNTIE ANNE’S AND SHOE DEPT) \nTest your aim with three inflatable beach games and then stop by the *sand art station for a fun\, make and take (home) craft! \n  \n*while supplies last. 
URL:https://www.eastviewmall.com/event/free-kids-event-summer-bash/
ATTACH;FMTTYPE=image/jpeg:https://www.eastviewmall.com/wp-content/uploads/sites/2/2025/06/FKE-July2025-E.jpg
END:VEVENT
BEGIN:VEVENT
DTSTART;VALUE=DATE:20250729
DTEND;VALUE=DATE:20250730
DTSTAMP:20260421T093313
CREATED:20250617T214622Z
LAST-MODIFIED:20250617T214622Z
UID:5781-1753747200-1753833599@www.eastviewmall.com
SUMMARY:Carousel Tuesday: FREE RIDES
DESCRIPTION:Free rides on Tuesdays during Summer Break! \nTuesday\, July 2 – Tuesday\, September 2 \n  \nRides are $2 all other days. Carousel Club Cards (10 rides for $10) are available for purchase at the Carousel. Exact cash or credit accepted.
URL:https://www.eastviewmall.com/event/carousel-tuesday-free-rides-32/
ATTACH;FMTTYPE=image/jpeg:https://www.eastviewmall.com/wp-content/uploads/sites/2/2025/05/CarouselTuesday-Summer2025-E.jpg
END:VEVENT
BEGIN:VEVENT
DTSTART;TZID=America/New_York:20250730T110000
DTEND;TZID=America/New_York:20250730T140000
DTSTAMP:20260421T093313
CREATED:20250617T214213Z
LAST-MODIFIED:20250617T214213Z
UID:5773-1753873200-1753884000@www.eastviewmall.com
SUMMARY:Wildlife Wednesday
DESCRIPTION:The Wildlife Rockstars are here every Wednesday during summer break! \nWednesday\, June 25 – Wednesday\, August 27 \n Main Court \n11a – 2p (lunch break 12p – 1p) \nWildlife Wednesdays are held every Wednesday during school breaks throughout the year. Kiddos can join the Wildlife Rockstars and enjoy an animal meet & greet and a themed activity including: coloring pages\, touch table and more!!
URL:https://www.eastviewmall.com/event/wildlife-wednesday-28/
ATTACH;FMTTYPE=image/jpeg:https://www.eastviewmall.com/wp-content/uploads/sites/2/2025/05/WildlifeWednesday-Summer2025-E-1.jpg
END:VEVENT
END:VCALENDAR